BEGIN:VCALENDAR
VERSION:2.0
PRODID:-//Friedenstein Open Air  - ECPv6.15.13.1//NONSGML v1.0//EN
CALSCALE:GREGORIAN
METHOD:PUBLISH
X-WR-CALNAME:Friedenstein Open Air 
X-ORIGINAL-URL:https://friedenstein-openair.de
X-WR-CALDESC:Veranstaltungen für Friedenstein Open Air 
REFRESH-INTERVAL;VALUE=DURATION:PT1H
X-Robots-Tag:noindex
X-PUBLISHED-TTL:PT1H
BEGIN:VTIMEZONE
TZID:Europe/Berlin
BEGIN:DAYLIGHT
TZOFFSETFROM:+0100
TZOFFSETTO:+0200
TZNAME:CEST
DTSTART:20250330T010000
END:DAYLIGHT
BEGIN:STANDARD
TZOFFSETFROM:+0200
TZOFFSETTO:+0100
TZNAME:CET
DTSTART:20251026T010000
END:STANDARD
BEGIN:DAYLIGHT
TZOFFSETFROM:+0100
TZOFFSETTO:+0200
TZNAME:CEST
DTSTART:20260329T010000
END:DAYLIGHT
BEGIN:STANDARD
TZOFFSETFROM:+0200
TZOFFSETTO:+0100
TZNAME:CET
DTSTART:20261025T010000
END:STANDARD
BEGIN:DAYLIGHT
TZOFFSETFROM:+0100
TZOFFSETTO:+0200
TZNAME:CEST
DTSTART:20270328T010000
END:DAYLIGHT
BEGIN:STANDARD
TZOFFSETFROM:+0200
TZOFFSETTO:+0100
TZNAME:CET
DTSTART:20271031T010000
END:STANDARD
END:VTIMEZONE
BEGIN:VEVENT
DTSTART;TZID=Europe/Berlin:20260814T200000
DTEND;TZID=Europe/Berlin:20260814T223000
DTSTAMP:20260423T094241
CREATED:20251216T145253Z
LAST-MODIFIED:20260112T120001Z
UID:9989-1786737600-1786746600@friedenstein-openair.de
SUMMARY:Thüringen Philharmonie trifft … Die Prinzen – Symphonica 2026
DESCRIPTION:Gotha ist weithin als Wiege des europäischen Adels bekannt – kein Geringerer als Herzog Ernst der Fromme trägt den liebevollen Beinamen „Der Opa von Europa“. Kein Wunder also\, dass Die Prinzen das royale Flair von Schloss Friedenstein selbst erleben möchten und den krönenden Abschluss ihrer großen Symphonica-2026-Tour beim Friedenstein Open Air 2026 setzen werden. \nAm 14. August 2026 heißt es daher: „Thüringen Philharmonie trifft … Die Prinzen – Symphonica 2026“. Seit 35 Jahren regieren Die Prinzen die deutsche Poplandschaft – mit unverkennbarem Sound\, pointierten Texten und Hits\, die längst zur musikalischen DNA des Landes gehören. Sechs Millionen verkaufte Tonträger\, zahlreiche Gold- und Platinplatten sowie zwei Echo-Awards belegen eindrucksvoll: Diese Band ist nicht nur Kult\, sie ist Pop-Adel. \nFür ihre Jubiläumsproduktion haben Die Prinzen ihre größten Erfolge in ein edles philharmonisches Gewand gehüllt. Gemeinsam mit der Thüringen Philharmonie Gotha-Eisenach unter der musikalischen Leitung von Christian Dellacher präsentieren sie ein Konzerterlebnis voller Emotionen\, musikalischer Finesse und mitreißender Orchesterarrangements – natürlich veredelt durch die gewohnt charmante Prise Prinzen-Humor. Ein Abend\, der Popgeschichte auf glanzvolle Weise neu erklingen lässt.
URL:https://friedenstein-openair.de/event/thueringen-philharmonie-trifft-die-prinzen-symphonica-2026/
ATTACH;FMTTYPE=image/webp:https://friedenstein-openair.de/wp-content/uploads/2025/12/DiePrinzen26_Symphonica_quadr2.jpg.webp
END:VEVENT
BEGIN:VEVENT
DTSTART;TZID=Europe/Berlin:20260815T200000
DTEND;TZID=Europe/Berlin:20260815T223000
DTSTAMP:20260423T094241
CREATED:20260402T101104Z
LAST-MODIFIED:20260420T074147Z
UID:10267-1786824000-1786833000@friedenstein-openair.de
SUMMARY:Benefizkonzert der Thüringer Sparkassen Die Kreissparkasse Gotha & Thüringen Philharmonie Gotha-Eisenach präsentiert: Johannes Oerding
DESCRIPTION:Ein weiterer Höhepunkt des Friedenstein Open Air steht fest: Am 15. August 2026 sorgt der sympathische Singer-Songwriter Johannes Oerding gemeinsam mit der Thüringen Philharmonie Gotha-Eisenach für eine unvergessliche Show auf Schloss Friedenstein in Gotha. \n\n\n\nTickets: \n\n\n\nTicket Shop Thüringen: \n\n\n\nJOHANNES OERDING – SOMMER OPEN AIRS 2026 – Ticket Shop Thüringen \n\n\n\nUnter Eventim: \n\n\n\neventim.de
URL:https://friedenstein-openair.de/event/benefizkonzert-der-thueringer-sparkassen-die-kreissparkasse-gotha-thueringen-philharmonie-gotha-eisenach-praesentiert-johannes-oerding/
ATTACH;FMTTYPE=image/jpeg:https://friedenstein-openair.de/wp-content/uploads/2026/08/Johannes-Oerding_Open-Airs-26_Eventim_Artist-Veranstaltungsbild_444px.jpg
END:VEVENT
BEGIN:VEVENT
DTSTART;TZID=Europe/Berlin:20260822T200000
DTEND;TZID=Europe/Berlin:20260822T223000
DTSTAMP:20260423T094241
CREATED:20251111T091038Z
LAST-MODIFIED:20260112T120440Z
UID:9907-1787428800-1787437800@friedenstein-openair.de
SUMMARY:Giovanni Zarrella - Una Notte Sinfonica
DESCRIPTION:präsentiert „Una Notte Sinfonica“\nDie Thüringen Philharmonie erfüllt Sommernachtsträume Weltstars\, sinfonische Highlights und Dolce Vita beim Friedenstein Open Air 2026. \nIm Sommer 2026 verwandelt sich der Schlosshof von Schloss Friedenstein in Gotha erneut in die beeindruckende Kulisse für das Friedenstein Open Air. Bereits zum fünften Mal präsentiert sich die Thüringen Philharmonie Gotha-Eisenach in dieser historischen Stätte auf der außergewöhnlichen Freiluftbühne. \nEin besonderer Höhepunkt: Giovanni Zarrella\, der gefeierte Sänger\, Entertainer und Shootingstar der deutschsprachigen Musikszene\, eröffnet das Festival unter dem Motto “Eine Italienische Sommernacht mit Giovanni Zarrella und Friends – Una Notte Sinfonica“. Mit seinem vierten Solo-Album “UNIVERSO“ und eigens für diesen Abend arrangierten Liedern entführt er in eine melodische Welt aus Italo-Disco-Pop verbunden mit symphonischen Klängen. Der charismatische Künstler\, der bereits im Sommer 2024 mit ausverkauften Open-Air-Konzerten begeisterte\, garantiert auch dieses Jahr ein unvergessliches Musikerlebnis. Überdies wird Zarrella namhafte Stargäste an seiner Seite haben\, deren Namen in Kürze bekanntgegeben werden
URL:https://friedenstein-openair.de/event/giovanni-zarrella-una-notte-sinfonica/
ATTACH;FMTTYPE=image/jpeg:https://friedenstein-openair.de/wp-content/uploads/2025/11/GZarrella_2026_OpenAir-insta-post-1080x1350-1.jpg
END:VEVENT
BEGIN:VEVENT
DTSTART;TZID=Europe/Berlin:20260823T193000
DTEND;TZID=Europe/Berlin:20260823T223000
DTSTAMP:20260423T094241
CREATED:20251216T151535Z
LAST-MODIFIED:20260112T120131Z
UID:9997-1787513400-1787524200@friedenstein-openair.de
SUMMARY:Thüringen Philharmonie präsentiert Sounds of Hollywood
DESCRIPTION:Mit „Sounds of Hollywood“ lässt die Thüringen Philharmonie Gotha-Eisenach die zeitlose Faszination epischer Filmmusik in einem eindrucksvollen multimedialen Spektakel aufleben. Legendäre Soundtracks großer Kinoklassiker und moderner Blockbuster verwandeln Schloss Friedenstein in eine klangvolle Bühne\, die den Zauber Hollywoods unmittelbar erlebbar macht. \nAuf einer Großbildleinwand entfalten sich dazu korrespondierende Filmszenen und Sequenzen\, die das musikalische Erlebnis visuell intensivieren. Dieses außergewöhnliche Konzert richtet sich nicht nur an passionierte Filmkenner\, sondern verspricht auch jungen Kino- und Musikbegeisterten unvergessliche Momente – ein Filmmusik-Event der besonderen Art! Ein rauschhaftes Klangabenteuer für die ganze Familie\, das man sich nicht entgehen lassen sollte. \nEs spielt die Thüringen Philharmonie Gotha-Eisenach. \nMusikalische Leitung: Stefan Fraas \nAm 14. August 2026 heißt es daher: „Thüringen Philharmonie trifft … Die Prinzen – Symphonica 2026“. Seit 35 Jahren regieren Die Prinzen die deutsche Poplandschaft – mit unverkennbarem Sound\, pointierten Texten und Hits\, die längst zur musikalischen DNA des Landes gehören. Sechs Millionen verkaufte Tonträger\, zahlreiche Gold- und Platinplatten sowie zwei Echo-Awards belegen eindrucksvoll: Diese Band ist nicht nur Kult\, sie ist Pop-Adel. \nFür ihre Jubiläumsproduktion haben Die Prinzen ihre größten Erfolge in ein edles philharmonisches Gewand gehüllt. Gemeinsam mit der Thüringen Philharmonie Gotha-Eisenach unter der musikalischen Leitung von Christian Dellacher präsentieren sie ein Konzerterlebnis voller Emotionen\, musikalischer Finesse und mitreißender Orchesterarrangements – natürlich veredelt durch die gewohnt charmante Prise Prinzen-Humor. Ein Abend\, der Popgeschichte auf glanzvolle Weise neu erklingen lässt.
URL:https://friedenstein-openair.de/event/thueringen-philharmonie-praesentiert-sounds-of-hollywood/
ATTACH;FMTTYPE=image/webp:https://friedenstein-openair.de/wp-content/uploads/2025/12/ThPhil-TST_1208x1208-FOA_SoundsofHollywood.jpg.webp
END:VEVENT
BEGIN:VEVENT
DTSTART;TZID=Europe/Berlin:20260828T200000
DTEND;TZID=Europe/Berlin:20260828T223000
DTSTAMP:20260423T094241
CREATED:20260112T115326Z
LAST-MODIFIED:20260112T115803Z
UID:10138-1787947200-1787956200@friedenstein-openair.de
SUMMARY:Thüringen Philharmonie präsentiert … Udo-Jürgens-Gala
DESCRIPTION:Mit Peter C. Frank am legendären Glasflügel!\nIm Rahmen des Friedenstein Open Air 2026 präsentiert die Thüringen Philharmonie Gotha-Eisenach eine ganz besondere Show – die UDO JÜRGENS-GALA mit Peter C. Frank\, ein einzigartiges Erlebnis\, das emotionaler kaum sein könnte. Mit seiner unverwechselbaren Stimme und begleitet von einer hochkarätigen Liveband sowie den sinfonischen Klängen der Thüringen Philharmonie interpretiert Peter C. Frank am legendären gläsernen Flügel die bekanntesten Hits und Liedschätze des großen Entertainers Udo Jürgens – mit dem unverwechselbaren Sound\, den Generationen von Fans lieben. Freuen Sie sich auf Klassiker wie „Mit 66 Jahren“\, „Liebe ohne Leiden“ und „Ich war noch niemals in New York“.Die UDO JÜRGENS-GALA verspricht einen unvergesslichen Abend voller Erinnerungen\, Entertainment und Emotionen und ist eine philharmonische Hommage an einen Jahrhundertkünstler!
URL:https://friedenstein-openair.de/event/thueringen-philharmonie-praesentiert-udo-juergens-gala/
ATTACH;FMTTYPE=image/webp:https://friedenstein-openair.de/wp-content/uploads/2025/12/FOA_Udo-Juergens_Platzhalter_quadr.jpg.webp
END:VEVENT
END:VCALENDAR