BEGIN:VCALENDAR
VERSION:2.0
PRODID:-//Friedenstein Open Air  - ECPv6.15.13.1//NONSGML v1.0//EN
CALSCALE:GREGORIAN
METHOD:PUBLISH
X-WR-CALNAME:Friedenstein Open Air 
X-ORIGINAL-URL:https://friedenstein-openair.de
X-WR-CALDESC:Veranstaltungen für Friedenstein Open Air 
REFRESH-INTERVAL;VALUE=DURATION:PT1H
X-Robots-Tag:noindex
X-PUBLISHED-TTL:PT1H
BEGIN:VTIMEZONE
TZID:Europe/Berlin
BEGIN:DAYLIGHT
TZOFFSETFROM:+0100
TZOFFSETTO:+0200
TZNAME:CEST
DTSTART:20240331T010000
END:DAYLIGHT
BEGIN:STANDARD
TZOFFSETFROM:+0200
TZOFFSETTO:+0100
TZNAME:CET
DTSTART:20241027T010000
END:STANDARD
BEGIN:DAYLIGHT
TZOFFSETFROM:+0100
TZOFFSETTO:+0200
TZNAME:CEST
DTSTART:20250330T010000
END:DAYLIGHT
BEGIN:STANDARD
TZOFFSETFROM:+0200
TZOFFSETTO:+0100
TZNAME:CET
DTSTART:20251026T010000
END:STANDARD
BEGIN:DAYLIGHT
TZOFFSETFROM:+0100
TZOFFSETTO:+0200
TZNAME:CEST
DTSTART:20260329T010000
END:DAYLIGHT
BEGIN:STANDARD
TZOFFSETFROM:+0200
TZOFFSETTO:+0100
TZNAME:CET
DTSTART:20261025T010000
END:STANDARD
END:VTIMEZONE
BEGIN:VEVENT
DTSTART;TZID=Europe/Berlin:20250823T200000
DTEND;TZID=Europe/Berlin:20250823T230000
DTSTAMP:20260423T225343
CREATED:20241212T115937Z
LAST-MODIFIED:20250123T101650Z
UID:9511-1755979200-1755990000@friedenstein-openair.de
SUMMARY:Thüringen Philharmonie trifft ... ANASTACIA
DESCRIPTION:23. August 2025\n					\n\n						20.00 Uhr\n(Einlass 18.30 Uhr)\n					\n\n						Gotha\, Schloss Friedenstein\n					\n					\n									JETZT LETZTE TICKETS BEI TICKETMASTER SICHERN !\n					\n					\n									JETZT LETZTE TICKETS IM TICKETSHOP THÜRINGEN SICHERN!\n					\n					\n									JETZT LETZTE TICKETS BEI EVENTIM SICHERN!\n					\n													\n		Es spielen Anastacia und ihre Liveband und die Thüringen Philharmonie Gotha-Eisenach.\n \nMusikalische Leitung: Christian Dellacher \nThüringen Philharmonie trifft … ANASTACIA\nAuch 2025 wird es Konzerte unserer erfolgreichen „Thüringen Philharmonie trifft …“-Reihe geben. Am 23. August 2025 erleben Sie ein wirklich außergewöhnliches musikalisches Highlight im Rahmen des FRIEDENSTEIN OPEN AIR 2025 in Gotha: Wir freuen uns auf Weltstar ANASTACIA! \nIhre kraftvolle Stimme und weltweite Erfolge mit Hits wie „I’m Outta Love“ und „Left Outside Alone“ machen sie zu einer Ausnahmekünstlerin. Am 23. August 2024 kommt ANASTACIA nach Gotha und wird gemeinsam mit der Thüringen Philharmonie Gotha-Eisenach die historischen Mauern von Schloss Friedenstein mit ihrer unvergleichlichen Energie und Bühnenpräsenz zum Erbeben bringen und für unvergessliche Gänsehautmomente sorgen. \nVeranstalter: Thüringen Philharmonie Gotha-Eisenach
URL:https://friedenstein-openair.de/event/thueringen-philharmonie-trifft-anastacia-2/
ATTACH;FMTTYPE=image/webp:https://friedenstein-openair.de/wp-content/uploads/2024/12/Anastacia_KeyVisual_GTH-scaled.webp
END:VEVENT
END:VCALENDAR