BEGIN:VCALENDAR
VERSION:2.0
PRODID:-//Friedenstein Open Air  - ECPv6.15.13.1//NONSGML v1.0//EN
CALSCALE:GREGORIAN
METHOD:PUBLISH
X-WR-CALNAME:Friedenstein Open Air 
X-ORIGINAL-URL:https://friedenstein-openair.de
X-WR-CALDESC:Veranstaltungen für Friedenstein Open Air 
REFRESH-INTERVAL;VALUE=DURATION:PT1H
X-Robots-Tag:noindex
X-PUBLISHED-TTL:PT1H
BEGIN:VTIMEZONE
TZID:Europe/Berlin
BEGIN:DAYLIGHT
TZOFFSETFROM:+0100
TZOFFSETTO:+0200
TZNAME:CEST
DTSTART:20220327T010000
END:DAYLIGHT
BEGIN:STANDARD
TZOFFSETFROM:+0200
TZOFFSETTO:+0100
TZNAME:CET
DTSTART:20221030T010000
END:STANDARD
BEGIN:DAYLIGHT
TZOFFSETFROM:+0100
TZOFFSETTO:+0200
TZNAME:CEST
DTSTART:20230326T010000
END:DAYLIGHT
BEGIN:STANDARD
TZOFFSETFROM:+0200
TZOFFSETTO:+0100
TZNAME:CET
DTSTART:20231029T010000
END:STANDARD
BEGIN:DAYLIGHT
TZOFFSETFROM:+0100
TZOFFSETTO:+0200
TZNAME:CEST
DTSTART:20240331T010000
END:DAYLIGHT
BEGIN:STANDARD
TZOFFSETFROM:+0200
TZOFFSETTO:+0100
TZNAME:CET
DTSTART:20241027T010000
END:STANDARD
END:VTIMEZONE
BEGIN:VEVENT
DTSTART;TZID=Europe/Berlin:20230625T200000
DTEND;TZID=Europe/Berlin:20230625T220000
DTSTAMP:20260423T144407
CREATED:20230405T152352Z
LAST-MODIFIED:20230516T163719Z
UID:4675-1687723200-1687730400@friedenstein-openair.de
SUMMARY:BACHJAZZO – MIT DEM ENSEMBLE „JAZZ-SENSATIONS“
DESCRIPTION:25. Juni 2023\n					\n					\n																				\n		\n		\n\n\n				\n				\n					\n		\n				\n			\n						\n				\n					\n\n\n\n		\n			\n						\n			\n				\n					\n						20.00 Uhr (Einlass: 19 Uhr)\n					\n					\n																				\n		\n		\n\n\n				\n				\n					\n		\n				\n			\n						\n				\n					\n\n\n\n		\n			\n						\n			\n				\n					\n						Gotha\, Schloss Friedenstein\n					\n					\n																				\n		\n		\n\n\n				\n				\n					\n		\n					\n		\n				\n						\n					\n			\n						\n				\n																														\n				\n				\n				\n									Ensemble „Jazz-Sensations“ Violine: Alexej BarchevitchVioloncello: Michael HochreitherKontrabass: Christoph GottwaldSaxophon: Ralf BenschuPiano: Jens GoldhardtDrumset: Markus Eschmann Veranstalter: Thüringen Philharmonie Gotha-Eisenach 								\n				\n					\n		\n				\n			\n						\n				\n									\n					\n						\n									Tickets kaufen\n					\n					\n				\n								\n				\n				\n				\n							\n			\n		\n						\n				\n				\n				\n									Eine swingig-jazzige Entdeckungsreise mit dem Ensemble „Jazz-Sensations“ \nMit weltberühmter Musik von Johann Sebastian Bach und Hits von u. a. Stevie Wonder\, Charlie Chaplin\, Ralf Benschu und Bard Howard. \nDer Jazz nimmt bis heute eine Sonderstellung in der Musikgeschichte ein: Häufig in die Nähe der europäischen Kunstmusik gerückt oder als das amerikanische Pendant zur Tonkunst Beethovens oder Bachs verstanden\, konnte die um 1900 in den US-amerikanischen Südstaaten entstandene Musikrichtung weder der klassischen Musik noch eindeutig der Popkultur zugerechnet werden.Das Ensemble „Jazz-Sensations“\, eine Formation aus Instrumentalisten der Thüringen Philharmonie und ausgewiesenen Jazz-Spezialisten\, wird im Rahmen ihres Programms „BachJazzo“ den Jazz\, also die umfangreiche Welt der Improvisation und des Swing\, in bekannte Kompositionen Johann Sebastians Bachs und viele bekannte Pop-Hits einbringen. Mit technischer Virtuosität und spielerischer Hingabe lässt „Jazz-Sensations“ die Herzen von Klassikliebhabern und Jazzfans gleichermaßen höherschlagen.
URL:https://friedenstein-openair.de/event/bachjazzo-mit-dem-ensemble-jazz-sensations/
ATTACH;FMTTYPE=image/jpeg:https://friedenstein-openair.de/wp-content/uploads/2023/04/PP-Praesentation_ThPhil_BachJazzo_web-scaled.jpg
END:VEVENT
END:VCALENDAR