BEGIN:VCALENDAR
VERSION:2.0
PRODID:-//Friedenstein Open Air  - ECPv6.15.13.1//NONSGML v1.0//EN
CALSCALE:GREGORIAN
METHOD:PUBLISH
X-WR-CALNAME:Friedenstein Open Air 
X-ORIGINAL-URL:https://friedenstein-openair.de
X-WR-CALDESC:Veranstaltungen für Friedenstein Open Air 
REFRESH-INTERVAL;VALUE=DURATION:PT1H
X-Robots-Tag:noindex
X-PUBLISHED-TTL:PT1H
BEGIN:VTIMEZONE
TZID:Europe/Berlin
BEGIN:DAYLIGHT
TZOFFSETFROM:+0100
TZOFFSETTO:+0200
TZNAME:CEST
DTSTART:20220327T010000
END:DAYLIGHT
BEGIN:STANDARD
TZOFFSETFROM:+0200
TZOFFSETTO:+0100
TZNAME:CET
DTSTART:20221030T010000
END:STANDARD
BEGIN:DAYLIGHT
TZOFFSETFROM:+0100
TZOFFSETTO:+0200
TZNAME:CEST
DTSTART:20230326T010000
END:DAYLIGHT
BEGIN:STANDARD
TZOFFSETFROM:+0200
TZOFFSETTO:+0100
TZNAME:CET
DTSTART:20231029T010000
END:STANDARD
BEGIN:DAYLIGHT
TZOFFSETFROM:+0100
TZOFFSETTO:+0200
TZNAME:CEST
DTSTART:20240331T010000
END:DAYLIGHT
BEGIN:STANDARD
TZOFFSETFROM:+0200
TZOFFSETTO:+0100
TZNAME:CET
DTSTART:20241027T010000
END:STANDARD
END:VTIMEZONE
BEGIN:VEVENT
DTSTART;TZID=Europe/Berlin:20230623T200000
DTEND;TZID=Europe/Berlin:20230623T220000
DTSTAMP:20260420T102047
CREATED:20230405T144125Z
LAST-MODIFIED:20230516T164101Z
UID:4628-1687550400-1687557600@friedenstein-openair.de
SUMMARY:ABDELKARIM – COMEDYNACHT AUF SCHLOSS FRIEDENSTEIN
DESCRIPTION:23. Juni 2023\n					\n					\n																				\n		\n		\n\n\n				\n				\n					\n		\n				\n			\n						\n				\n					\n\n\n\n		\n			\n						\n			\n				\n					\n						20.00 Uhr (Einlass: 19 Uhr)\n					\n					\n																				\n		\n		\n\n\n				\n				\n					\n		\n				\n			\n						\n				\n					\n\n\n\n		\n			\n						\n			\n				\n					\n						Gotha\, Schloss Friedenstein\n					\n					\n																				\n		\n		\n\n\n				\n				\n					\n		\n					\n		\n				\n						\n					\n			\n						\n				\n																														\n				\n				\n				\n							\n			\n		\n						\n				\n				\n				\n									\n					\n						\n									Website Abdel Karim\n					\n					\n				\n								\n				\n					\n		\n				\n			\n						\n				\n									\n					\n						\n									Tickets kaufen\n					\n					\n				\n								\n				\n				\n				\n									Das Friedenstein Open Air wird im Jahr 2023 um eine weitere\, künstlerische Facette reicher: Erstmals steht mit Abdelkarim einer der beliebtesten deutschen Comedians auf der Bühne des Friedenstein Open Air. Abdelkarim ist im TV regelmäßiger Stammgast mit gefeierten Auftritten u.a. bei der „heute show“\, in „Die Anstalt“ und bei Amazons „LOL“. Am 23. Juni 2023 kommt er nach Gotha und präsentiert sein aktuelles Solo-Programm „Wir beruhigen uns“. Als gebürtiger Bielefelder beschäftigt Abdelkarim eine zentrale Frage: Ist die Welt zu schnell oder ist er einfach zu langsam? Obwohl er die Antwort aus bestimmten Gründen tragischerweise bei sich vermutet\, sucht er auch nach Antworten\, die direkt der ganzen Menschheit zugutekommen sollen. Sein Motto ist klar: Warum kleine Ziele\, wenn man auch mit großen scheitern kann? Auf seiner Suche nach weiteren Antworten bewegt sich der „einzige Wahlduisburger der Welt“ in einem Alltag mit ständig wechselnden Blickwinkeln. Dabei spricht er mit allen Menschen\, von jung bis nicht mehr ganz so jung\, von hellweiß bis dunkelschwarz\, und von weiblich bis männlich. So entstehen humorvolle Geschichten\, die bei ihm ab und an auch für große Fragezeichen sorgen: Gibt es Jacken\, in denen er nicht aussieht wie eine Sonderfolge „Aktenzeichen XY“? Warum verlernen Menschen auf einmal ihre Sprache\, wenn sie Kinder kriegen? Was ist die beste Uhrzeit für einen Viral-Hit? Fällt es unter „ehrenamtlich tätig“\, wenn Abdelkarim in einer Polizei-Chatgruppe als Admin anheuert? Solche Fragen und viele andere Momente der Überforderung führen den „Marokkaner Ihres Vertrauens“ immer wieder zu einer Erkenntnis: „Wir beruhigen uns.“ Dreimal tief ausatmen und zwischendurch einatmen. Abdelkarim ist sich sicher: „Wenn wir uns alle nicht zu ernst nehmen\, und wenn wir alle mehr miteinander reden anstatt übereinander\, kriegen wir das alles gebacken.“ Erleben Sie einen Comedy-Abend auf Schloss Friedenstein mit besonderen und absurden Geschichten\, die keinen Platz für Schubladen lassen.  Veranstalter: Thüringen Philharmonie Gotha-Eisenach
URL:https://friedenstein-openair.de/event/abdelkarim-comedynacht-auf-schloss-friedenstein/
LOCATION:Schlosshof von Schloss Friedenstein Gotha\, Schlossplatz 1\, Gotha\, Thüringen\, 99867\, Deutschland
ATTACH;FMTTYPE=image/jpeg:https://friedenstein-openair.de/wp-content/uploads/2023/04/Website1200x800px_ThPhil_Abdelkarim.jpg
END:VEVENT
END:VCALENDAR